BEGIN:VCALENDAR
VERSION:2.0
PRODID:-//Extinction Rebellion Boston//Action//
BEGIN:VEVENT
SUMMARY:XOXR - Valentine Outreach
DTSTART:20240211T160000Z
DTEND:20240211T180000Z
DTSTAMP:20260425T150805Z
UID:1726@https://xrboston.org
CREATED:20260425T150805Z
DESCRIPTION:Event details: https://xrboston.org/action/xoxr-20240211/\n\nJ
 oin us at Boston Public Market where we invite people to write valentines 
 for our planet! \n\nThis is a fun outreach activity that anybody can join.
  Help us to get people talking about what they love on our planet\, create
  some beautiful valentines \, and invite them to do what is necessary to p
 rotect all that.\n\nWe will be at the market from 11am to 3pm.
LAST-MODIFIED:20240130T143039Z
LOCATION:Boston Public Market
ORGANIZER;CN="Extinction Rebellion Boston":MAILTO:outreach@xrboston.org
URL:https://xrboston.org/action/xoxr-20240211/
END:VEVENT
END:VCALENDAR
