BEGIN:VCALENDAR
VERSION:2.0
PRODID:-//Extinction Rebellion Boston//Action//
BEGIN:VEVENT
SUMMARY:XR Mural Celebration!
DTSTART:20241020T180000Z
DTEND:20241020T200000Z
DTSTAMP:20260420T201554Z
UID:1904@https://xrboston.org
CREATED:20260420T201554Z
DESCRIPTION:Event details: https://xrboston.org/action/xr-arlington-affini
 ty-group-gathering-singalong/\n\nJoin Extinction Rebellion Boston in celeb
 rating the creation of our new ecologically-themed mural at 324  Mass Ave\
 , Arlington! The mural was designed by Kevin Shanahan using the block prin
 t images created by members of Extinction Rebellion\, UK\, and took over a
  year of planning and countless hours of work by over 20 volunteers. The m
 ural invites us to consider our relationship to the natural world and enco
 urages us to consider how we can help create a more just and sustainable f
 uture. Come gather with your neighbors for refreshments\, performance\, si
 nging and dance as we celebrate East Arlington's new mural! \n\n **Schedul
 e**\n\n2:00-2:20 - Gathering and Refreshments \n\n2:20-2:30 - A Brief Hist
 ory of the Mural\n\n2:30-3:15 - True Story Theater Performance with their 
 unique Playback Theater method to dramatize the experiences and feelings o
 f audience volunteers\n\n3:15 -3:25 - A Ritual of Appreciation \n\n3:25-3:
 45 - Songs of Resistance by Music Out Front\n\n3:45 - 5:00  - Music and Da
 nce\n\n*By the request of Walgreens\, this is an alcohol-free event
LAST-MODIFIED:20241019T151644Z
LOCATION:324 Mass Ave\, Arlington\, MA
ORGANIZER;CN="Extinction Rebellion Boston":MAILTO:outreach@xrboston.org
URL:https://xrboston.org/action/xr-arlington-affinity-group-gathering-sing
 along/
END:VEVENT
END:VCALENDAR
