BEGIN:VCALENDAR
VERSION:2.0
PRODID:-//Extinction Rebellion Boston//Action//
BEGIN:VEVENT
SUMMARY:XR at HONK! Neighborhood Lantern Parade
DTSTART:20231006T200000Z
DTEND:20231006T220000Z
DTSTAMP:20260421T232519Z
UID:1628@https://xrboston.org
CREATED:20260421T232519Z
DESCRIPTION:Event details: https://xrboston.org/action/xr-at-honk-neighbor
 hood-lantern-parade/\n\nJoin Extinction Rebellion in the family friendly a
 nnual HONK! Neighborhood Lantern Parade. We will gather at Hodgkins-Curtin
  Park\, near Davids Square\, Somerville\, between 4pm and 6pm for a lanter
 n making workshop then parade though the neighborhood streets from 6:30pm 
 to 7:30pm carrying lanterns with messages of love\, hope and resilience in
  this moving event celebrating community and the connection between all li
 ving things.
LAST-MODIFIED:20231005T143105Z
LOCATION:Hodgkins-Curtin Park\, Somerville
ORGANIZER;CN="Extinction Rebellion Boston":MAILTO:outreach@xrboston.org
URL:https://xrboston.org/action/xr-at-honk-neighborhood-lantern-parade/
END:VEVENT
END:VCALENDAR
