BEGIN:VCALENDAR
VERSION:2.0
PRODID:-//Extinction Rebellion Boston//Action//
BEGIN:VEVENT
SUMMARY:XR at the First Night Puppet Parade
DTSTART:20231231T221500Z
DTEND:20240101T001500Z
DTSTAMP:20260425T121828Z
UID:1697@https://xrboston.org
CREATED:20260425T121828Z
DESCRIPTION:Event details: https://xrboston.org/action/xr-at-the-first-nig
 ht-puppet-parade2023/\n\nJoin the XR Art Working Group at the First Night 
 Puppet Parade!  We will be holding light boxes decorated with threatened a
 nd endangered species\, short poems\, and XR symbols.  \n\nTimeline:\n\n5:
 15 pm - Participants arrive and check-in (Cambridge Street)\n\n5:30 pm - P
 arade participant placement begins\n\n6:00 pm - Parade starts\n\n6:50 pm -
  Parade concludes\n\nParade path: \nThe parade is staged on Cambridge Stre
 et (utilizing both inbound and outbound lanes) onto Tremont Street\, conti
 nuing to Boyleston Street\, and finally turning onto Charles Street to end
  at Boston Common.
LAST-MODIFIED:20231228T183110Z
LOCATION:Cambridge Street in front of City Hall Plaza
ORGANIZER;CN="Extinction Rebellion Boston":MAILTO:outreach@xrboston.org
URL:https://xrboston.org/action/xr-at-the-first-night-puppet-parade2023/
END:VEVENT
END:VCALENDAR
