BEGIN:VCALENDAR
VERSION:2.0
PRODID:-//Extinction Rebellion Boston//Action//
BEGIN:VEVENT
SUMMARY:XR at the HONK Festival - Make the Critter Rebellion!
DTSTART:20241005T170000Z
DTEND:20241005T190000Z
DTSTAMP:20260425T165234Z
UID:1892@https://xrboston.org
CREATED:20260425T165234Z
DESCRIPTION:Event details: https://xrboston.org/action/xr-at-the-honk-fest
 ival-build-the-critter-/\n\nJoin Extinction Rebellion at the HONK! Festiva
 l in Davis Square from 1pm to 4pm to help make the Critter Rebellion! In t
 his family friendly event\, you can make your own endangered species masks
  and color our endangered species coloring pages. You can also help us mak
 e some Critter Rebellion Posters. Then join us the next day in the HONK Pa
 rade\, dressed as your favorite critter!\n\nWe are also looking for volunt
 eers to help facilitate the Critter Rebellion activities and XR Outreach T
 able. If you're available please sign up [here](https://docs.google.com/do
 cument/d/1s3Uqz6B995rw-PqUMG6rT1_LuHCFWSNeIriCQ2sM_o4/edit?usp=sharinghttp
 s://).
LAST-MODIFIED:20240928T041439Z
LOCATION:Elm St\, Davis Square\, Somerville
ORGANIZER;CN="Extinction Rebellion Boston":MAILTO:outreach@xrboston.org
URL:https://xrboston.org/action/xr-at-the-honk-festival-build-the-critter-
 /
END:VEVENT
END:VCALENDAR
