BEGIN:VCALENDAR
VERSION:2.0
PRODID:-//Extinction Rebellion Boston//Action//
BEGIN:VEVENT
SUMMARY:XR at the HONK Parade - Join the Critter Rebellion!
DTSTART:20241006T150000Z
DTEND:20241006T170000Z
DTSTAMP:20260425T165235Z
UID:1893@https://xrboston.org
CREATED:20260425T165235Z
DESCRIPTION:Event details: https://xrboston.org/action/xr-at-the-honk-para
 de-join-the-critter-rebellion/\n\nJoin Extinction Rebellion for our Critte
 r Rebellion as we march in the HONK Parade! \n\nWe will meet at the parkin
 g lot at Day St and Herbert St in Davis Square at 11:00AM and start marchi
 ng down Mass Ave at noon. The parade will end at Havard Square at about 1:
 30PM. \n\nThis is a great family event. There will be live bands puppets\,
  banners and signs. Come dressed as your favorite critter or just come as 
 yourself!\n\nPlease RSVP so that we know how many puppets\, flags and bann
 ers to bring. We could also use some extra helpers with the parade. If you
  are available\, please sign-up [here](https://docs.google.com/document/d/
 1coC0w31ywTnybE8p4mxGOelbWouKXXQGMgdAb3CnvU0/edit?usp=sharing).
LAST-MODIFIED:20241004T001212Z
LOCATION:Davis Square
ORGANIZER;CN="Extinction Rebellion Boston":MAILTO:outreach@xrboston.org
URL:https://xrboston.org/action/xr-at-the-honk-parade-join-the-critter-reb
 ellion/
END:VEVENT
END:VCALENDAR
