BEGIN:VCALENDAR
VERSION:2.0
PRODID:-//Extinction Rebellion Boston//Action//
BEGIN:VEVENT
SUMMARY:Re-Storying Climate "Change"? XR at the Theater to Advocate for Ma
 ss Action
DTSTART:20220525T230000Z
DTEND:20220526T010000Z
DTSTAMP:20260421T104013Z
UID:1192@https://xrboston.org
CREATED:20260421T104013Z
DESCRIPTION:Event details: https://xrboston.org/action/xr-at-the-theater/\
 n\nUntil the 22nd of May\, ArtsEmerson is presenting a climate-themed prod
 uction called ***Sea Sick*** \, a one-person show based on the award-winni
 ng book by Alanna Mitchell\, which features herself recounting the true st
 ory of her marine biological work\, science journalism\, & attempts to com
 municate the severity of the climate **emergency** (my emphasis) to the wo
 rld.  \n\nInterestingly\, according to an astute XR Boston member who repo
 rted back after attending the production\, she ends with more of a call fo
 r self-forgiveness than coordinated mass direct action\, civil disobedienc
 e\, & protest. So we've decided that it is necessary that XR Boston turn o
 ut for the "Re-Storying Climate Change: A Generative Conversation" public 
 dialogue that is to be held on May 25th at 7 PM\, so that we can advocate 
 for mass protest & collective power & invite all those in attendance to jo
 in us in fighting back against climate catastrophe. \n\nYou must RSVP ahea
 d of time\, so if you are going to come\, please do so here: [https://arts
 emerson.org/events/restorying-climate-change/](https://)\n\nSimilarly\, it
 's probably not a bad idea to read a bit of her book or try to see the sho
 w before coming (although not required!)\, so that we make as informed arg
 uments as we can. If you'd like to purchase tickets to one of the upcoming
  showings\, use this link:\n[https://artsemerson.org/events/sea-sick/](htt
 ps://) \n\nWe will meet outside the Emerson Paramount Center at 6:45 PM on
  the 25th—see you there!
LAST-MODIFIED:20220517T170643Z
LOCATION:Emerson Paramount Center\nBright Family Screening Room\n559 Washi
 ngton St\, Boston\, MA 02111
ORGANIZER;CN="Extinction Rebellion Boston":MAILTO:outreach@xrboston.org
URL:https://xrboston.org/action/xr-at-the-theater/
END:VEVENT
END:VCALENDAR
