BEGIN:VCALENDAR
VERSION:2.0
PRODID:-//Extinction Rebellion Boston//Action//
BEGIN:VEVENT
SUMMARY:XR Board Game Afternoon
DTSTART:20231217T180000Z
DTEND:20231217T200000Z
DTSTAMP:20260425T120843Z
UID:1698@https://xrboston.org
CREATED:20260425T120843Z
DESCRIPTION:Event details: https://xrboston.org/action/xr-board-game-after
 noon/\n\nIt's cold outside\, but warm in here. Join us for a fun\, casual 
 night of board gaming and getting to know your fellow rebels! Drinks\, sna
 cks\, and some food provided. There's a large collection of board games\, 
 but feel free to bring anything you'd like to teach+play!\n\nNote: A dog a
 lso lives in the home\, for anyone with allergies!
LAST-MODIFIED:20231211T124809Z
LOCATION:48 Harvard Ave\, Medford\, MA 02155
ORGANIZER;CN="Extinction Rebellion Boston":MAILTO:outreach@xrboston.org
URL:https://xrboston.org/action/xr-board-game-afternoon/
END:VEVENT
END:VCALENDAR
