BEGIN:VCALENDAR
VERSION:2.0
PRODID:-//Extinction Rebellion Boston//Action//
BEGIN:VEVENT
SUMMARY:XR Book Club: Braiding Sweetgrass\, Part 1
DTSTART:20231126T230000Z
DTEND:20231127T010000Z
DTSTAMP:20260425T110038Z
UID:1677@https://xrboston.org
CREATED:20260425T110038Z
DESCRIPTION:Event details: https://xrboston.org/action/xr-book-club-braidi
 ng-sweetgrass-part-1/\n\nThe XR book club's next book will be Braiding Swe
 etgrass\, by Robin Wall Kimmerer!\n\n"As a botanist\, Robin Wall Kimmerer 
 has been trained to ask questions of nature with the tools of science. As 
 a member of the Citizen Potawatomi Nation\, she embraces the notion that p
 lants and animals are our oldest teachers. In Braiding Sweetgrass\, Kimmer
 er brings these lenses of knowledge together to show that the awakening of
  a wider ecological consciousness requires the acknowledgment and celebrat
 ion of our reciprocal relationship with the rest of the living world. For 
 only when we can hear the languages of other beings are we capable of unde
 rstanding the generosity of the earth\, and learning to give our own gifts
  in return."\n\nFor the first meeting\, we'll be reading the through page 
 97 (in most editions of the book\, until the end of the chapter "A Mother'
 s Work")\, and meeting at a local rebel's house.\n\nA meal will be provide
 d. Please RSVP\, for an accurate estimate of attendance. Bringing a vegan 
 dish\, snack\, or drink to share is appreciated\, though not at all requir
 ed!
LAST-MODIFIED:20231109T211632Z
LOCATION:48 Harvard Ave\, Medford\, MA 02155
ORGANIZER;CN="Extinction Rebellion Boston":MAILTO:outreach@xrboston.org
URL:https://xrboston.org/action/xr-book-club-braiding-sweetgrass-part-1/
END:VEVENT
END:VCALENDAR
