BEGIN:VCALENDAR
VERSION:2.0
PRODID:-//Extinction Rebellion Boston//Action//
BEGIN:VEVENT
SUMMARY:XR Book Club: Braiding Sweetgrass\, Part 2
DTSTART:20231220T003000Z
DTEND:20231220T023000Z
DTSTAMP:20260425T121250Z
UID:1688@https://xrboston.org
CREATED:20260425T121250Z
DESCRIPTION:Join online: <a href="https://cambridgema.zoom.us/j/8725078899
 9?pwd=VnFVRmVWaHdMUngxR3FqejJwRkRaQT09#success">https://cambridgema.zoom.u
 s/j/87250788999?pwd=VnFVRmVWaHdMUngxR3FqejJwRkRaQT09#success</a>\n\nEvent 
 details: <a href="https://xrboston.org/action/xr-book-club-braiding-sweetg
 rass-part-2/">https://xrboston.org/action/xr-book-club-braiding-sweetgrass
 -part-2/</a>\n\nThe XR book club's next book will be Braiding Sweetgrass\,
  by Robin Wall Kimmerer. For our second meeting\, we'll be reading up to p
 age 201 (in most editions of the book\, until the end of the chapter "The 
 Honorable Harvest").\n\nFeel free to join in late...the chapters are self-
 contained essays\, so it's easy to get up to speed.\n\nThe Zoom link will 
 be sent to those who RSVPed.\n\n"As a botanist\, Robin Wall Kimmerer has b
 een trained to ask questions of nature with the tools of science. As a mem
 ber of the Citizen Potawatomi Nation\, she embraces the notion that plants
  and animals are our oldest teachers. In Braiding Sweetgrass\, Kimmerer br
 ings these lenses of knowledge together to show that the awakening of a wi
 der ecological consciousness requires the acknowledgment and celebration o
 f our reciprocal relationship with the rest of the living world. For only 
 when we can hear the languages of other beings are we capable of understan
 ding the generosity of the earth\, and learning to give our own gifts in r
 eturn."\n\n-::~:~::~:~:~:~:~:~:~:~:~:~:~:~:~:~:~:~:~:~:~:~:~:~:~:~:~:~:~:~
 :~:~:~:~:~:~:~:~::~:~::-\nDo not edit this section of the description.\n\n
 This event has a video call.\nJoin: https://cambridgema.zoom.us/j/87250788
 999?pwd=VnFVRmVWaHdMUngxR3FqejJwRkRaQT09#success\n\nView your event at htt
 ps://xrboston.org/action/xr-book-club-braiding-sweetgrass-part-2/\n-::~:~:
 :~:~:~:~:~:~:~:~:~:~:~:~:~:~:~:~:~:~:~:~:~:~:~:~:~:~:~:~:~:~:~:~:~:~:~:~::
 ~:~::-
LAST-MODIFIED:20231216T214456Z
LOCATION:Online event
ORGANIZER;CN="Extinction Rebellion Boston":MAILTO:outreach@xrboston.org
URL:https://xrboston.org/action/xr-book-club-braiding-sweetgrass-part-2/
END:VEVENT
END:VCALENDAR
