BEGIN:VCALENDAR
VERSION:2.0
PRODID:-//Extinction Rebellion Boston//Action//
BEGIN:VEVENT
SUMMARY:XR Book Club: The Word for World is Forest
DTSTART:20231025T000000Z
DTEND:20231025T020000Z
DTSTAMP:20260421T233718Z
UID:1656@https://xrboston.org
CREATED:20260421T233718Z
DESCRIPTION:Join online: <a href="https://cambridgema.zoom.us/j/8725078899
 9?pwd=VnFVRmVWaHdMUngxR3FqejJwRkRaQT09#success">https://cambridgema.zoom.u
 s/j/87250788999?pwd=VnFVRmVWaHdMUngxR3FqejJwRkRaQT09#success</a>\n\nEvent 
 details: <a href="https://xrboston.org/action/xr-book-club-the-word-for-wo
 rld-is-forest/">https://xrboston.org/action/xr-book-club-the-word-for-worl
 d-is-forest/</a>\n\nJoin us to discuss the first 3 chapters of "The Word f
 or World is Forest" by Ursula K. Le Guin. Everyone is welcome in this conv
 ersation!\n\n-::~:~::~:~:~:~:~:~:~:~:~:~:~:~:~:~:~:~:~:~:~:~:~:~:~:~:~:~:~
 :~:~:~:~:~:~:~:~:~::~:~::-\nDo not edit this section of the description.\n
 \nThis event has a video call.\nJoin: https://cambridgema.zoom.us/j/872507
 88999?pwd=VnFVRmVWaHdMUngxR3FqejJwRkRaQT09#success\n\nView your event at h
 ttps://xrboston.org/action/xr-book-club-the-word-for-world-is-forest/\n-::
 ~:~::~:~:~:~:~:~:~:~:~:~:~:~:~:~:~:~:~:~:~:~:~:~:~:~:~:~:~:~:~:~:~:~:~:~:~
 :~::~:~::-
LAST-MODIFIED:20231017T000755Z
LOCATION:Online event
ORGANIZER;CN="Extinction Rebellion Boston":MAILTO:outreach@xrboston.org
URL:https://xrboston.org/action/xr-book-club-the-word-for-world-is-forest/
END:VEVENT
END:VCALENDAR
