BEGIN:VCALENDAR
VERSION:2.0
PRODID:-//Extinction Rebellion Boston//Action//
BEGIN:VEVENT
SUMMARY:Volunteer: XR Boston at Boston Vegetarian Food Festival
DTSTART:20231014T140000Z
DTEND:20231014T160000Z
DTSTAMP:20260421T232519Z
UID:1644@https://xrboston.org
CREATED:20260421T232519Z
DESCRIPTION:Event details: https://xrboston.org/action/xr-boston-at-boston
 -vegetarian-food-festival-2023/\n\nWe will be exhibitors at the annual Bos
 ton Vegetarian Food Festival\, happening this weekend: Saturday from 10-6 
 and Sunday from 11-4.  Join us as we talk with the crowd about the climate
  emergency and the need for urgent\, collective action! \n\nDo you want to
  contribute help grow the movement for climate justice? Do you want to pra
 ctice having climate conversations? This event is for you!\n\nWe need volu
 nteers to take one or two  2-hour shifts on either day\, Saturday or Sunda
 y! We need YOU! \nRSVP and we will be in touch to pick a shift!
LAST-MODIFIED:20231011T151836Z
LOCATION:Reggie Lewis Athletic Center\, 1350 Tremont St.\, Boston\, MA
ORGANIZER;CN="Extinction Rebellion Boston":MAILTO:outreach@xrboston.org
URL:https://xrboston.org/action/xr-boston-at-boston-vegetarian-food-festiv
 al-2023/
END:VEVENT
END:VCALENDAR
