BEGIN:VCALENDAR
VERSION:2.0
PRODID:-//Extinction Rebellion Boston//Action//
BEGIN:VEVENT
SUMMARY:XR Boston Book Club: Facing the Climate Emergency
DTSTART:20251023T000000Z
DTEND:20251023T020000Z
DTSTAMP:20260420T084258Z
UID:2167@https://xrboston.org
CREATED:20260420T084258Z
DESCRIPTION:Event details: https://xrboston.org/action/xr-boston-book-club
 -facing-the-climate-emergency/\n\nJoin the Camberville Affinity Group's bo
 ok/resource club for our third meeting\, after the General Meeting on Wedn
 esday October 22\, where we will discuss *Facing the Climate Emergency* by
  Margaret Klein Salamon.  All are welcome!\n\n*Facing the Climate Emergenc
 y* is a short but powerful primer on written for the suffering multitudes 
 struggling to cope and looking for answers\, Facing the Climate Emergency 
 provides the motivation\, guidance\, and support needed to leave "normal" 
 behind and travel the path of the climate warrior\, rising to the challeng
 e of our time.\n\nXR Boston also distributes free copies of this book! You
  may be able to pick one up at another XR event before hand\, or send an e
 mail to tim.c.peters@gmail.com.
LAST-MODIFIED:20251003T173849Z
LOCATION:Puppet Free Library (15 Public Alley 437 # 437\, Boston\, MA 0211
 6)
ORGANIZER;CN="Extinction Rebellion Boston":MAILTO:outreach@xrboston.org
URL:https://xrboston.org/action/xr-boston-book-club-facing-the-climate-eme
 rgency/
END:VEVENT
END:VCALENDAR
