BEGIN:VCALENDAR
VERSION:2.0
PRODID:-//Extinction Rebellion Boston//Action//
BEGIN:VEVENT
SUMMARY:XR Boston General Meeting
DTSTART:20250924T220000Z
DTEND:20250925T000000Z
DTSTAMP:20260421T230616Z
UID:2134@https://xrboston.org
CREATED:20260421T230616Z
DESCRIPTION:Event details: https://xrboston.org/action/xr-boston-general-m
 eeting/\n\n**please note new location** \n\nJoin us on September 24th for 
 XR Boston's monthly General Meeting! This is the place for new and old mem
 bers to meet\, mingle\, and connect with our community.\n\nAlthough planne
 d for the outdoors\, tonight we'll be meeting indoors at the Puppet Free L
 ibrary due to possibly drizzyly weather. There will be a seedbomb making w
 orkshop\, and our one-of-a-kind giant extinction Jenga set\, thanks to the
  members of Gnaturalists (Affinity Group focused on biodiversity from an e
 co-feminist lens).\n\n**Timeline**\n\n**6:00 - 6:45**: Arrive\, socialize\
 , eat.\n\n**6:45 - 7:30**: We will circle up for a group activity.\n\n**7:
 30 - 8:30**: For new members\, there will be an in-person orientation. For
  existing members\, this hour can be used for Affinity Group and Working G
 roup meetings.
LAST-MODIFIED:20250924T210611Z
LOCATION:[Puppet Free Library\, 15 Public Alley 437 # 437\, Boston\, MA 02
 116](https://maps.app.goo.gl/ZcdxZZMrT2oR7ScW8)
ORGANIZER;CN="Extinction Rebellion Boston":MAILTO:outreach@xrboston.org
URL:https://xrboston.org/action/xr-boston-general-meeting/
END:VEVENT
END:VCALENDAR
