BEGIN:VCALENDAR
VERSION:2.0
PRODID:-//Extinction Rebellion Boston//Action//
BEGIN:VEVENT
SUMMARY:XR Boston General Meeting: Messaging Brainstorm!
DTSTART:20250816T180000Z
DTEND:20250816T200000Z
DTSTAMP:20260422T003210Z
UID:2122@https://xrboston.org
CREATED:20260422T003210Z
DESCRIPTION:Event details: https://xrboston.org/action/xr-boston-general-m
 eeting-messaging-brainstorm/\n\nOur world has massively changed in the pas
 t year - How will XR Boston update our messaging to relate the current iss
 ues we face as a planet? Join our community to brainstorm ideas! The Media
  and Messaging Working Group wants to hear what matters to YOU\, what news
  stories you're thinking about\, what language excites you\, so we can bas
 e our messaging off the whole community.\n\nJoin us from 2 pm to 5 pm on S
 aturday August 16 for a messaging-themed general meeting! We'll share ligh
 t vegan snacks and collaborate on ideas in a series of participatory works
 hops. **If you're part of an Affinity Group\, please try to send at least 
 one person to participate!**
LAST-MODIFIED:20250729T203709Z
LOCATION:Cavalry United Methodist Church\, 300 Massachusetts Ave\, Arlingt
 on\, MA 02474
ORGANIZER;CN="Extinction Rebellion Boston":MAILTO:outreach@xrboston.org
URL:https://xrboston.org/action/xr-boston-general-meeting-messaging-brains
 torm/
END:VEVENT
END:VCALENDAR
