BEGIN:VCALENDAR
VERSION:2.0
PRODID:-//Extinction Rebellion Boston//Action//
BEGIN:VEVENT
SUMMARY:XR Earrings Making Party
DTSTART:20240424T220000Z
DTEND:20240425T000000Z
DTSTAMP:20260425T181638Z
UID:1783@https://xrboston.org
CREATED:20260425T181638Z
DESCRIPTION:Event details: https://xrboston.org/action/xr-earring-art-buil
 d-apr2024/\n\nCome join our Art Build and XR Earring Making Party. We will
  be meeting at the Puppet Free Library from 6pm to 8pm to make our special
 ized XR Symbol Earrings. This is a family friendly event. Feel free to dro
 p in any time. No art experience needed\, just a love for the planet.\n\nL
 ight food (vegetarian/vegan) and beverages will be provided. A trip to a l
 ocal watering hole may follow.
LAST-MODIFIED:20240418T101254Z
LOCATION:The Puppet Free Library
ORGANIZER;CN="Extinction Rebellion Boston":MAILTO:outreach@xrboston.org
URL:https://xrboston.org/action/xr-earring-art-build-apr2024/
END:VEVENT
END:VCALENDAR
