BEGIN:VCALENDAR
VERSION:2.0
PRODID:-//Extinction Rebellion Boston//Action//
BEGIN:VEVENT
SUMMARY:XR March and Die-In at the HONK! Parade
DTSTART:20231008T150000Z
DTEND:20231008T170000Z
DTSTAMP:20260421T232019Z
UID:1630@https://xrboston.org
CREATED:20260421T232019Z
DESCRIPTION:Event details: https://xrboston.org/action/xr-march-and-die-in
 -at-the-honk-parade/\n\nJoin XR Boston and the Red Rebels in the annual HO
 NK! Parade a family friendly celebration of activism and social justice. W
 e'll gather in Davis Square at 11:30am and begin the parade at 12 noon. Th
 e parade will end at 2pm in Harvard Square where we will engage in a massi
 ve die-in and giant banner drop in the middle of the Harvard Square Oktobe
 rfest\, bringing attention to the ongoing climate crisis.\n\nThis will be 
 our 5th year collaborating with the members of HONK! who are also the memb
 ers of the Good Trouble Brass Band (formerly the Second Line Pleasure Soci
 ety and Social Aid Band)\, the group we can always depend on to bring musi
 c and joy to our protests. They are very excited to organize a die-in with
  us this year\, repeating the super successful die-in we staged at the 201
 9 HONK! Parade. We hope to bring out a large contingent of rebels this yea
 r to make this one our biggest HONK! die-in ever!\n\nXR Boston's new 12 fo
 ot North Atlantic Right Whale puppet will be joining us in the parade! Fee
 l free to come dressed as your favorite sea creature or bring a sign about
  the dangers climate change poses to ocean life!
LAST-MODIFIED:20231005T142651Z
LOCATION:Day St and Herbert St\, Somerville
ORGANIZER;CN="Extinction Rebellion Boston":MAILTO:outreach@xrboston.org
URL:https://xrboston.org/action/xr-march-and-die-in-at-the-honk-parade/
END:VEVENT
END:VCALENDAR
