BEGIN:VCALENDAR
VERSION:2.0
PRODID:-//Extinction Rebellion Boston//Action//
BEGIN:VEVENT
SUMMARY:XR March in the HONK! Parade
DTSTART:20251012T150000Z
DTEND:20251012T170000Z
DTSTAMP:20260421T213322Z
UID:2159@https://xrboston.org
CREATED:20260421T213322Z
DESCRIPTION:Event details: https://xrboston.org/action/xr-march-in-the-hon
 k-parade/\n\nJoin Extinction Rebellion Boston as we march in the HONK! Par
 ade!!! This year we will be marching with the Climate Crisis Cabaret\, a n
 ew group of Boston area theater artists\, scientists and activists who hav
 e organized to kindle action on the climate crisis\, with the theme of sci
 ence saves lives. We will gather at 11am at the parking lot at the Corner 
 of Day St and Herbert St\, in Davis Square\, Somerville \, start marching 
 at noon and then arrive in Harvard Square at 2pm. We will have banners\, p
 uppets and flags. Bring your family and invite your friends and neighbors.
  Bring pro science signs\, wear animal costumes or just come as you are. T
 his is a wonderful opportunity to connect around our common desire for a l
 ivable planet.
LAST-MODIFIED:20251011T134946Z
LOCATION:Corner of Day St and Herbert St in Davis Square\, Somerville
ORGANIZER;CN="Extinction Rebellion Boston":MAILTO:outreach@xrboston.org
URL:https://xrboston.org/action/xr-march-in-the-honk-parade/
END:VEVENT
END:VCALENDAR
