BEGIN:VCALENDAR
VERSION:2.0
PRODID:-//Extinction Rebellion Boston//Action//
BEGIN:VEVENT
SUMMARY:XR Non-Violent Direct Action training
DTSTART:20240321T223000Z
DTEND:20240322T003000Z
DTSTAMP:20260425T164906Z
UID:1752@https://xrboston.org
CREATED:20260425T164906Z
DESCRIPTION:Join online: <a href="https://us06web.zoom.us/meeting/register
 /tZMocu6rqjwuEtANOfaEOhWMePzVm5v3QT65">https://us06web.zoom.us/meeting/reg
 ister/tZMocu6rqjwuEtANOfaEOhWMePzVm5v3QT65</a>\n\nEvent details: <a href="
 https://xrboston.org/action/xr-non-violent-direct-action-training-03-21-24
 /">https://xrboston.org/action/xr-non-violent-direct-action-training-03-21
 -24/</a>\n\nLearn how to take part in XR actions at this non-violent direc
 t action training! This training is for people who are interested in poten
 tially doing civil disobedience as well as people who want to play support
  roles for our actions.\n\nYou will learn how to engage in non-violent civ
 il disobedience. We will cover some theory behind direct actions\, discuss
  the logistics of arrest and potential legal implications\, and talk about
  the many different roles (beyond risking arrest) that are crucial to succ
 essful actions. You will get to talk to a few people who have gone through
  the arrest process and ask questions you might have.\n\nLocation: [Zoom\,
  you'll need to register to join](https://us06web.zoom.us/meeting/register
 /tZMocu6rqjwuEtANOfaEOhWMePzVm5v3QT65)\n\nRun Time: 6:30 to 8:00 pm \n\nWe
  recommend that you attend an 'Heading for Extinction' talk and an XR orie
 ntation before you attend our NVDA training. You can find these events on 
 our calendar. We recommend these because understanding the climate science
  and more about XR will help you figure out how you'd like to be involved.
 \n\nIf you cannot attend these events\, you are still welcome to attend th
 e training. Instead of the in-person events\, you may want to watch a vers
 ion of the Heading for Extinction talk online (e.g. [here](https://www.you
 tube.com/watch?v=b2VkC4SnwY0)).\n\n-::~:~::~:~:~:~:~:~:~:~:~:~:~:~:~:~:~:~
 :~:~:~:~:~:~:~:~:~:~:~:~:~:~:~:~:~:~:~:~::~:~::-\nDo not edit this section
  of the description.\n\nThis event has a video call.\nJoin: https://us06we
 b.zoom.us/meeting/register/tZMocu6rqjwuEtANOfaEOhWMePzVm5v3QT65\n\nView yo
 ur event at https://xrboston.org/action/xr-non-violent-direct-action-train
 ing-03-21-24/\n-::~:~::~:~:~:~:~:~:~:~:~:~:~:~:~:~:~:~:~:~:~:~:~:~:~:~:~:~
 :~:~:~:~:~:~:~:~:~:~::~:~::-
LAST-MODIFIED:20240304T124950Z
LOCATION:Online event
ORGANIZER;CN="Extinction Rebellion Boston":MAILTO:outreach@xrboston.org
URL:https://xrboston.org/action/xr-non-violent-direct-action-training-03-2
 1-24/
END:VEVENT
END:VCALENDAR
