BEGIN:VCALENDAR
VERSION:2.0
PRODID:-//Extinction Rebellion Boston//Action//
BEGIN:VEVENT
SUMMARY:XR Non-Violent Direct Action training
DTSTART:20230424T223000Z
DTEND:20230425T003000Z
DTSTAMP:20260421T121145Z
UID:1488@https://xrboston.org
CREATED:20260421T121145Z
DESCRIPTION:Join online: <a href="https://us06web.zoom.us/j/83588685210?pw
 d=N0RtcUtHWHVDM2g5OC9OWXNLcGRPdz09">https://us06web.zoom.us/j/83588685210?
 pwd=N0RtcUtHWHVDM2g5OC9OWXNLcGRPdz09</a>\n\nEvent details: <a href="https:
 //xrboston.org/action/xr-non-violent-direct-action-training-04-24-23/">htt
 ps://xrboston.org/action/xr-non-violent-direct-action-training-04-24-23/</
 a>\n\nLearn how to take part in XR actions at this non-violent direct acti
 on training! This training is for people who are interested in potentially
  doing civil disobedience as well as people who want to play support roles
  for our actions.\n\nYou will learn how to engage in non-violent civil dis
 obedience. We will cover some theory behind direct actions\, discuss the l
 ogistics of arrest and potential legal implications\, and talk about the m
 any different roles (beyond risking arrest) that are crucial to successful
  actions. You will get to talk to a few people who have gone through the a
 rrest process and ask questions you might have.\n\nLocation: [Zoom\, you'l
 l need to register to join](https://us06web.zoom.us/j/83588685210?pwd=N0Rt
 cUtHWHVDM2g5OC9OWXNLcGRPdz09)\n\nRun Time: 6:30 to 8:30 pm (we may end ear
 ly).\n\nWe recommend that you attend an 'Heading for Extinction' talk and 
 an XR orientation before you attend our NVDA training. You can find these 
 events on our calendar. We recommend these because understanding the clima
 te science and more about XR will help you figure out how you'd like to be
  involved.\n\nIf you cannot attend these events\, you are still welcome to
  attend the training. Instead of the in-person events\, you may want to wa
 tch a version of the Heading for Extinction talk online (e.g. [here](https
 ://www.youtube.com/watch?v=b2VkC4SnwY0)).\n\n-::~:~::~:~:~:~:~:~:~:~:~:~:~
 :~:~:~:~:~:~:~:~:~:~:~:~:~:~:~:~:~:~:~:~:~:~:~:~:~::~:~::-\nDo not edit th
 is section of the description.\n\nThis event has a video call.\nJoin: http
 s://us06web.zoom.us/j/83588685210?pwd=N0RtcUtHWHVDM2g5OC9OWXNLcGRPdz09\n\n
 View your event at https://xrboston.org/action/xr-non-violent-direct-actio
 n-training-04-24-23/\n-::~:~::~:~:~:~:~:~:~:~:~:~:~:~:~:~:~:~:~:~:~:~:~:~:
 ~:~:~:~:~:~:~:~:~:~:~:~:~:~::~:~::-
LAST-MODIFIED:20230403T231855Z
LOCATION:Online event
ORGANIZER;CN="Extinction Rebellion Boston":MAILTO:outreach@xrboston.org
URL:https://xrboston.org/action/xr-non-violent-direct-action-training-04-2
 4-23/
END:VEVENT
END:VCALENDAR
