BEGIN:VCALENDAR
VERSION:2.0
PRODID:-//Extinction Rebellion Boston//Action//
BEGIN:VEVENT
SUMMARY:XR Non-Violent Direct Action training
DTSTART:20220628T220000Z
DTEND:20220629T000000Z
DTSTAMP:20260420T072358Z
UID:1197@https://xrboston.org
CREATED:20260420T072358Z
DESCRIPTION:Event details: https://xrboston.org/action/xr-non-violent-dire
 ct-action-training-06-28-22/\n\n**Location: Beacon Hill Friends House. 6-8
  Chestnut St\, Boston\, MA 02108.**\n\n**Run Time: 6:00 to 8:00 pm**\n\nLe
 arn how to take part in XR actions at this non-violent direct action train
 ing! This training is for people who are interested in potentially doing c
 ivil disobedience as well as people who want to play support roles for our
  actions.\n\nYou will learn how to engage in non-violent civil disobedienc
 e. We will cover some theory behind direct actions\, discuss the logistics
  of arrest and potential legal implications\, and talk about the many diff
 erent roles (beyond risking arrest) that are crucial to successful actions
 . You will get to talk to a few people who have gone through the arrest pr
 ocess and ask questions you might have.\n\nWe recommend that you attend an
  'Heading for Extinction' talk and an XR orientation before you attend our
  NVDA training. You can find these events on our calendar. We recommend th
 ese because understanding the climate science and more about XR will help 
 you figure out how you'd like to be involved.\n\nIf you cannot attend thes
 e events\, you are still welcome to attend the training. Instead of the in
 -person events\, you may want to watch a version of the Heading for Extinc
 tion talk online (e.g. [here](https://www.youtube.com/watch?v=b2VkC4SnwY0)
 ).\n\n**The venue is requiring that participants be vaccinated and wearing
  masks for the indoor portion of the training. If this is a challenge for 
 you\, but you owuld like to attend\, please email gaiawarrior@protonmail.c
 om.**
LAST-MODIFIED:20220617T153018Z
LOCATION:Beacon Hill Friends House 8 Chestnut St\, Boston\, MA 02108
ORGANIZER;CN="Extinction Rebellion Boston":MAILTO:outreach@xrboston.org
URL:https://xrboston.org/action/xr-non-violent-direct-action-training-06-2
 8-22/
END:VEVENT
END:VCALENDAR
