BEGIN:VCALENDAR
VERSION:2.0
PRODID:-//Extinction Rebellion Boston//Action//
BEGIN:VEVENT
SUMMARY:[CANCELED] XR Non-Violent Direct Action training
DTSTART:20240711T223000Z
DTEND:20240712T003000Z
DTSTAMP:20260423T174245Z
UID:1835@https://xrboston.org
CREATED:20260423T174245Z
DESCRIPTION:Join online: <a href="https://us06web.zoom.us/meeting/register
 /tZcpf-6urzMsHtwVdj3OyHFg6CwqTQn-MFvU">https://us06web.zoom.us/meeting/reg
 ister/tZcpf-6urzMsHtwVdj3OyHFg6CwqTQn-MFvU</a>\n\nEvent details: <a href="
 https://xrboston.org/action/xr-non-violent-direct-action-training-07-11-24
 /">https://xrboston.org/action/xr-non-violent-direct-action-training-07-11
 -24/</a>\n\n**This event has been canceled. Our next orientation will take
  place on Thursday 8/1. [RSVP here](https://xrboston.org/action/xr-non-vio
 lent-direct-action-training-08-01-24/)**\n\nLearn how to take part in XR a
 ctions at this non-violent direct action training! This training is for pe
 ople who are interested in potentially doing civil disobedience as well as
  people who want to play support roles for our actions.\n\nYou will learn 
 how to engage in non-violent civil disobedience. We will cover some theory
  behind direct actions\, discuss the logistics of arrest and potential leg
 al implications\, and talk about the many different roles (beyond risking 
 arrest) that are crucial to successful actions. You will get to talk to a 
 few people who have gone through the arrest process and ask questions you 
 might have.\n\nLocation: [Zoom\, you'll need to register to join](https://
 us06web.zoom.us/meeting/register/tZcpf-6urzMsHtwVdj3OyHFg6CwqTQn-MFvU)\n\n
 Run Time: 6:30 to 8:00 pm \n\nWe recommend that you attend an [XR orientat
 ion](https://xrboston.org/action/?tag=orientation) before you attend our N
 VDA training. We recommend this training because understanding more about 
 XR's theory of change and organizing principles will help you figure out h
 ow you'd like to be involved.\n\n-::~:~::~:~:~:~:~:~:~:~:~:~:~:~:~:~:~:~:~
 :~:~:~:~:~:~:~:~:~:~:~:~:~:~:~:~:~:~:~::~:~::-\nDo not edit this section o
 f the description.\n\nThis event has a video call.\nJoin: https://us06web.
 zoom.us/meeting/register/tZcpf-6urzMsHtwVdj3OyHFg6CwqTQn-MFvU\n\nView your
  event at https://xrboston.org/action/xr-non-violent-direct-action-trainin
 g-07-11-24/\n-::~:~::~:~:~:~:~:~:~:~:~:~:~:~:~:~:~:~:~:~:~:~:~:~:~:~:~:~:~
 :~:~:~:~:~:~:~:~:~::~:~::-
LAST-MODIFIED:20240711T221132Z
LOCATION:Online event
ORGANIZER;CN="Extinction Rebellion Boston":MAILTO:outreach@xrboston.org
URL:https://xrboston.org/action/xr-non-violent-direct-action-training-07-1
 1-24/
END:VEVENT
END:VCALENDAR
