BEGIN:VCALENDAR
VERSION:2.0
PRODID:-//Extinction Rebellion Boston//Action//
BEGIN:VEVENT
SUMMARY:XR Non-Violent Direct Action training
DTSTART:20220207T233000Z
DTEND:20220208T013000Z
DTSTAMP:20260425T034956Z
UID:1031@https://xrboston.org
CREATED:20260425T034956Z
DESCRIPTION:Join online: <a href="https://us06web.zoom.us/meeting/register
 /tZUsduqtrz8vGtw0mfAJWDYPnie_BAe1hblr">https://us06web.zoom.us/meeting/reg
 ister/tZUsduqtrz8vGtw0mfAJWDYPnie_BAe1hblr</a>\n\nEvent details: <a href="
 https://xrboston.org/action/xr-non-violent-direct-action-training-2-7-22/"
 >https://xrboston.org/action/xr-non-violent-direct-action-training-2-7-22/
 </a>\n\nLearn how to take part in XR actions at this non-violent direct ac
 tion training! This training is for people who are interested in potential
 ly doing civil disobedience as well as people who want to play support rol
 es for our actions.\n\nYou will learn how to engage in non-violent civil d
 isobedience. We will cover some theory behind direct actions\, discuss the
  logistics of arrest and potential legal implications\, and talk about the
  many different roles (beyond risking arrest) that are crucial to successf
 ul actions. You will get to talk to a few people who have gone through the
  arrest process and ask questions you might have.\n\nLocation: [Zoom\, reg
 ister here](https://us06web.zoom.us/meeting/register/tZUsduqtrz8vGtw0mfAJW
 DYPnie_BAe1hblr)\n\nRun Time: 6:30 to 8:30 pm (we may end early\, and are 
 still finalizing timing)\n\nWe recommend that you attend an 'Heading for E
 xtinction' talk and an XR orientation before you attend our NVDA training.
  You can find these events on our calendar. We recommend these because und
 erstanding the climate science and more about XR will help you figure out 
 how you'd like to be involved.\n\nIf you cannot attend these events\, you 
 are still welcome to attend the training. Instead of the in-person events\
 , you may want to watch a version of the Heading for Extinction talk onlin
 e (e.g. [here](https://www.youtube.com/watch?v=b2VkC4SnwY0)).\n\n-::~:~::~
 :~:~:~:~:~:~:~:~:~:~:~:~:~:~:~:~:~:~:~:~:~:~:~:~:~:~:~:~:~:~:~:~:~:~:~::~:
 ~::-\nDo not edit this section of the description.\n\nThis event has a vid
 eo call.\nJoin: https://us06web.zoom.us/meeting/register/tZUsduqtrz8vGtw0m
 fAJWDYPnie_BAe1hblr\n\nView your event at https://xrboston.org/action/xr-n
 on-violent-direct-action-training-2-7-22/\n-::~:~::~:~:~:~:~:~:~:~:~:~:~:~
 :~:~:~:~:~:~:~:~:~:~:~:~:~:~:~:~:~:~:~:~:~:~:~:~::~:~::-
LAST-MODIFIED:20220112T220507Z
LOCATION:Online event
ORGANIZER;CN="Extinction Rebellion Boston":MAILTO:outreach@xrboston.org
URL:https://xrboston.org/action/xr-non-violent-direct-action-training-2-7-
 22/
END:VEVENT
END:VCALENDAR
