BEGIN:VCALENDAR
VERSION:2.0
PRODID:-//Extinction Rebellion Boston//Action//
BEGIN:VEVENT
SUMMARY:XR Youth End of Summer Celebration
DTSTART:20230826T210000Z
DTEND:20230826T230000Z
DTSTAMP:20260423T021348Z
UID:1598@https://xrboston.org
CREATED:20260423T021348Z
DESCRIPTION:Event details: https://xrboston.org/action/xr-youth-end-of-sum
 mer-celebration/\n\nXR Youth is hosting an end of summer celebration on Sa
 turday August 26\, from 5 pm to 10 pm!\n\nWhether you're a seasoned young 
 rebel\, a newcomer to XR\, or a returning member\, we want to connect with
  you! This is a backyard party with food\, fellowship\, and a screening of
  Wall-E.\nAll rebels 12 to 21 are invited\; parents are tolerated. Bring f
 riends!\n\nLocation in Cambridge\,** RSVP here for address:** [https://act
 ionnetwork.org/forms/summer-party-rsvp](https://actionnetwork.org/forms/su
 mmer-party-rsvp)\n\nXR Youth Boston is an autonomous chapter affiliated wi
 th XR Boston: [https://www.xryouthboston.org/](https://www.xryouthboston.o
 rg)
LAST-MODIFIED:20230815T230029Z
LOCATION:Cambridge\, RSVP for Location
ORGANIZER;CN="Extinction Rebellion Boston":MAILTO:outreach@xrboston.org
URL:https://xrboston.org/action/xr-youth-end-of-summer-celebration/
END:VEVENT
END:VCALENDAR
