BEGIN:VCALENDAR
VERSION:2.0
PRODID:-//Extinction Rebellion Boston//Action//
BEGIN:VEVENT
SUMMARY:XR Youth Orientation
DTSTART:20220530T233000Z
DTEND:20220531T013000Z
DTSTAMP:20260421T102314Z
UID:1194@https://xrboston.org
CREATED:20260421T102314Z
DESCRIPTION:Event details: https://xrboston.org/action/xr-youth-orientatio
 n/\n\nExtinction Rebellion Youth Boston (XRYB) is hosting our second orien
 tation!\n\nIf you are 18 or younger and interested in XR Youth join us on 
 Monday\, May 30th at 7:30pm over Zoom to learn more about XRYB and get inv
 olved! This is a great chance to get plugged into our movement and meet ot
 her new members.\n\nRSPV for the Zoom link!
LAST-MODIFIED:20220530T234030Z
LOCATION:RSVP for Zoom Link
ORGANIZER;CN="Extinction Rebellion Boston":MAILTO:outreach@xrboston.org
URL:https://xrboston.org/action/xr-youth-orientation/
END:VEVENT
END:VCALENDAR
