BEGIN:VCALENDAR
VERSION:2.0
PRODID:-//Extinction Rebellion Boston//Action//
BEGIN:VEVENT
SUMMARY:Regenerative Yoga with XR | Free Session!
DTSTART:20241003T220000Z
DTEND:20241004T000000Z
DTSTAMP:20260425T164525Z
UID:1911@https://xrboston.org
CREATED:20260425T164525Z
DESCRIPTION:Event details: https://xrboston.org/action/yoga-oct3-24/\n\nJo
 in XR Boston and yoga instructor Stevie Downie for a guided practice for a
 ll skill levels! Free & open to the public. Stevie Downie is an experience
 d acro-yoga instructor\, martial artist\, organizer\, activist\, and a mem
 ber of XR Boston.\n\nNo previous experience required. Yoga mat recommended
 . \n\nPlease sign up below for possible schedule changes and bad weather l
 ocation.\n\n*photo by @corinnaraznikovphotography*
LAST-MODIFIED:20240927T235405Z
LOCATION:Boston Public Garden\, make way for the ducklings
ORGANIZER;CN="Extinction Rebellion Boston":MAILTO:outreach@xrboston.org
URL:https://xrboston.org/action/yoga-oct3-24/
END:VEVENT
END:VCALENDAR
