BEGIN:VCALENDAR
VERSION:2.0
PRODID:-//Extinction Rebellion Boston//Action//
BEGIN:VEVENT
SUMMARY:XR Boston Youth Canvassing Training | ORGANIZE EVERYWHERE!
DTSTART:20220520T230000Z
DTEND:20220521T010000Z
DTSTAMP:20260421T103852Z
UID:1189@https://xrboston.org
CREATED:20260421T103852Z
DESCRIPTION:Event details: https://xrboston.org/action/youth-canvassing-tr
 aining/\n\nJoin XR Boston Youth & organizers from XR Boston for the first 
 canvassing training exclusively for youth! \n\nWe will meet on Zoom to dis
 cuss outreach\, growth strategies like canvassing\, the state of XR Boston
  Youth\, and potential goals for the remainder of 2022\, including the imp
 lementation of a canvassing campaign over the summer months. By the end of
  the call\, we will have learned how to have such effective persuasion (C.
 L.I.M.A.T.E) conversations that all the creepy alt-right uncles will be qu
 aking in their boots....fleeing your very presence on holidays\, terrified
  that you will convert them into an SJW! So if you have any annoying relat
 ives that you want to scare away with impossible-to-dispute arguments & rh
 etorical clarity\, ya better be there. By the end of the call\, you will b
 e able to convince ANYONE of the reality\, severity\, & impending nature o
 f the Climate Emergency\, and then spur them to action...\n\nIf you are 18
  or younger\, or one of the specially-chosen collegiate kids cool enough t
 o hang with the Youth\, we will see you on Zoom on Friday at 7 PM! \n\nZoo
 m Link: https://us02web.zoom.us/j/81628761938?pwd=LA2lmjuFoSJjTGPjTXjw4iJ6
 8dpLvR.1
LAST-MODIFIED:20220515T234958Z
LOCATION:https://us02web.zoom.us/j/81628761938?pwd=LA2lmjuFoSJjTGPjTXjw4iJ
 68dpLvR.1
ORGANIZER;CN="Extinction Rebellion Boston":MAILTO:outreach@xrboston.org
URL:https://xrboston.org/action/youth-canvassing-training/
END:VEVENT
END:VCALENDAR
