BEGIN:VCALENDAR
VERSION:2.0
PRODID:-//Extinction Rebellion Boston//Action//
BEGIN:VEVENT
SUMMARY:Degrowth Primer and Discussion
DTSTART:20221117T233000Z
DTEND:20221118T013000Z
DTSTAMP:20260421T172459Z
UID:1350@https://xrboston.org
CREATED:20260421T172459Z
DESCRIPTION:Join online: <a href="https://us02web.zoom.us/meeting/register
 /tZUocumoqTguG9C74oJScwjv1VWocz1Ml80q">https://us02web.zoom.us/meeting/reg
 ister/tZUocumoqTguG9C74oJScwjv1VWocz1Ml80q</a>\n\nEvent details: <a href="
 https://xrboston.org/action/degrowth-primer-and-discussion/">https://xrbos
 ton.org/action/degrowth-primer-and-discussion/</a>\n\nAs we begin to under
 stand the severity of our ecological emergency\, we need ideas\, practices
 \, and programs that meet the current moment. In an era of ecological over
 shoot and billions still without the proper means of survival\, this calls
  for a radical reconceptualization of our economy and society. **What we n
 eed is degrowth.** \n\nThis presentation will provide participants with a 
 degrowth primer: what it is\, why it's necessary\, and how we can start im
 plementing degrowth. While calls for a Green New Deal have changed the con
 versation on the climate crisis\, it is clear current Green New Deal's do 
 not go far enough to achieve ecological sustainability and global justice.
  Degrowth offers not simply an alternative to Green New Deal proposals\, b
 ut a supplement to what the Green New Deal lacks. This talk will push us t
 owards a new terrain when it comes to the Green New Deal discourse: a Degr
 owth Green New Deal.\n\nPresenter Andrew Ahern is an ecological activist\,
  organizer\, and freelance writer. He lives in Boston where he is a member
  of Boston DSA and the Sunrise Movement.\n\n-::~:~::~:~:~:~:~:~:~:~:~:~:~:
 ~:~:~:~:~:~:~:~:~:~:~:~:~:~:~:~:~:~:~:~:~:~:~:~:~::~:~::-\nDo not edit thi
 s section of the description.\n\nThis event has a video call.\nJoin: https
 ://us02web.zoom.us/meeting/register/tZUocumoqTguG9C74oJScwjv1VWocz1Ml80q\n
 \nView your event at https://xrboston.org/action/degrowth-primer-and-discu
 ssion/\n-::~:~::~:~:~:~:~:~:~:~:~:~:~:~:~:~:~:~:~:~:~:~:~:~:~:~:~:~:~:~:~:
 ~:~:~:~:~:~:~::~:~::-
LAST-MODIFIED:20221027T110358Z
LOCATION:Online event
ORGANIZER;CN="Extinction Rebellion Boston":MAILTO:outreach@xrboston.org
URL:https://xrboston.org/action/degrowth-primer-and-discussion/
END:VEVENT
END:VCALENDAR
