BEGIN:VCALENDAR
VERSION:2.0
PRODID:-//Extinction Rebellion Boston//Action//
BEGIN:VEVENT
SUMMARY:[ONLINE NOW DUE TO WEATHER] Extinction Rebellion Orientation
DTSTART:20220913T220000Z
DTEND:20220914T000000Z
DTSTAMP:20260420T224739Z
UID:1261@https://xrboston.org
CREATED:20260420T224739Z
DESCRIPTION:Join online: <a href="https://us06web.zoom.us/meeting/register
 /tZwrc-Ctrz8pHtd5wEoMO0WeJq8TQerqr6Wk">https://us06web.zoom.us/meeting/reg
 ister/tZwrc-Ctrz8pHtd5wEoMO0WeJq8TQerqr6Wk</a>\n\nEvent details: <a href="
 https://xrboston.org/action/extinction-rebellion-orientation-2022-09-13/">
 https://xrboston.org/action/extinction-rebellion-orientation-2022-09-13/</
 a>\n\n**NEW LOCATION IS ONLINE.**\n\n**Date and Time: 9/13 at 6 pm**\n\n**
 [RSVP HERE](https://us06web.zoom.us/meeting/register/tZwrc-Ctrz8pHtd5wEoMO
 0WeJq8TQerqr6Wk)**\n\nIf you are new to Extinction Rebellion or would just
  like to learn more about how it works\, please join us!\n\nWe will cover 
 the following:\n\n* What is XR?\n* What is civil disobedience & direct act
 ion?\n* What do we want?\n* What are our principles and values?\n* How are
  we organized?\n* How you can get involved!\n\nThe session will run for 1 
 hour.\n\nPlease RSVP below to receive a confirmation email containing info
 rmation about joining the meeting.\n\nLooking forward to seeing you!\n\n-:
 :~:~::~:~:~:~:~:~:~:~:~:~:~:~:~:~:~:~:~:~:~:~:~:~:~:~:~:~:~:~:~:~:~:~:~:~:
 ~:~::~:~::-\nDo not edit this section of the description.\n\nThis event ha
 s a video call.\nJoin: https://us06web.zoom.us/meeting/register/tZwrc-Ctrz
 8pHtd5wEoMO0WeJq8TQerqr6Wk\n\nView your event at https://xrboston.org/acti
 on/extinction-rebellion-orientation-2022-09-13/\n-::~:~::~:~:~:~:~:~:~:~:~
 :~:~:~:~:~:~:~:~:~:~:~:~:~:~:~:~:~:~:~:~:~:~:~:~:~:~:~::~:~::-
LAST-MODIFIED:20220911T163450Z
LOCATION:Online event
ORGANIZER;CN="Extinction Rebellion Boston":MAILTO:outreach@xrboston.org
URL:https://xrboston.org/action/extinction-rebellion-orientation-2022-09-1
 3/
END:VEVENT
END:VCALENDAR
