BEGIN:VCALENDAR
VERSION:2.0
PRODID:-//Extinction Rebellion Boston//Action//
BEGIN:VEVENT
SUMMARY:October Climate Grief Circle
DTSTART:20231025T223000Z
DTEND:20231026T003000Z
DTSTAMP:20260421T232330Z
UID:1606@https://xrboston.org
CREATED:20260421T232330Z
DESCRIPTION:Join online: <a href="https://us06web.zoom.us/meeting/register
 /tZEldeGvrDssHNa8sf7ugIFHEWjKeRt_itxD">https://us06web.zoom.us/meeting/reg
 ister/tZEldeGvrDssHNa8sf7ugIFHEWjKeRt_itxD</a>\n\nEvent details: <a href="
 https://xrboston.org/action/october-climate-grief-circle-2023/">https://xr
 boston.org/action/october-climate-grief-circle-2023/</a>\n\n**Please RSVP 
 through this [zoom link](https://us06web.zoom.us/meeting/register/tZEldeGv
 rDssHNa8sf7ugIFHEWjKeRt_itxD)**\n\nYou are welcome in this monthly circle\
 , where we contact and work with our climate grief. We are all experiencin
 g so many losses because of the climate crisis\, including extinction\, di
 splacement\, loss of livelihood\, and irrevocable changes to beloved place
 s. Our resulting grief can show up in many different ways\, such as numbne
 ss\, bitterness\, and despair. However your grief shows up\, you are welco
 me in this space. We believe that working with grief requires support\, an
 d that is what we aim to provide. What’s more\, we trust that when we en
 gage with our grief in a supported way\, we find that we no longer need to
  be afraid of it\, and that frees us up to show up in service and love for
  the communities that we hold dear. \n\nWith gentle facilitation and simpl
 e prompts\, we will move through reflection and sharing that will get us o
 ut of our heads and into our hearts\, where our grief and our love for thi
 s world reside. This 75-minute circle is open to all\, whether you are a s
 easoned rebel or brand-new to XR.\n\n-::~:~::~:~:~:~:~:~:~:~:~:~:~:~:~:~:~
 :~:~:~:~:~:~:~:~:~:~:~:~:~:~:~:~:~:~:~:~:~::~:~::-\nDo not edit this secti
 on of the description.\n\nThis event has a video call.\nJoin: https://us06
 web.zoom.us/meeting/register/tZEldeGvrDssHNa8sf7ugIFHEWjKeRt_itxD\n\nView 
 your event at https://xrboston.org/action/october-climate-grief-circle-202
 3/\n-::~:~::~:~:~:~:~:~:~:~:~:~:~:~:~:~:~:~:~:~:~:~:~:~:~:~:~:~:~:~:~:~:~:
 ~:~:~:~:~::~:~::-
LAST-MODIFIED:20230822T150143Z
LOCATION:Online event
ORGANIZER;CN="Extinction Rebellion Boston":MAILTO:outreach@xrboston.org
URL:https://xrboston.org/action/october-climate-grief-circle-2023/
END:VEVENT
END:VCALENDAR
